BEGIN:VCALENDAR
PRODID:-//AT Content Types//AT Event//EN
VERSION:2.0
METHOD:PUBLISH
BEGIN:VEVENT
DTSTAMP:20260423T115055Z
CREATED:20200606T185806Z
UID:ATEvent-4921ef7382b2471d9ea8e68a22f4cbd8
LAST-MODIFIED:20200626T201109Z
SUMMARY:Summer bird walk
DTSTART:20200709T120000Z
DTEND:20200709T140000Z
DESCRIPTION:Please register for this program in advance. To register f
 or this program please call FENCE at 828-859-9021 or email info@fence.
 org. Meet at the FENCE center on Thursday\, July 9th at 8am for a summ
 er bird walk led by Aaron Steed.
LOCATION:FENCE center
CATEGORIES:Nature Program
CONTACT:828-859-9021\, info@fence.org
CLASS:PUBLIC
END:VEVENT
END:VCALENDAR
