BEGIN:VCALENDAR
PRODID:-//AT Content Types//AT Event//EN
VERSION:1.0
BEGIN:VEVENT
DTSTART:20120617T120000Z
DTEND:20120617T140000Z
DCREATED:20120417T135700Z
UID:ATEvent-23535b52-3fdb-469c-aa14-5c0d0d47f387
SEQUENCE:0
LAST-MODIFIED:20120417T155725Z
SUMMARY:Summer Bird Hike with Simon Thompson
DESCRIPTION:Well-known ornithologist and birding expert\, Simon Thomps
 on\, will conduct a Summer birding hike at FENCE on June 17 at 8:00am.
   This will be the third in the series
LOCATION:FENCE Center
PRIORITY:3
TRANSP:0
END:VEVENT
END:VCALENDAR
