BEGIN:VCALENDAR
PRODID:-//AT Content Types//AT Event//EN
VERSION:1.0
BEGIN:VEVENT
DTSTART:20140626T120000Z
DTEND:20140626T140000Z
DCREATED:20140120T211210Z
UID:ATEvent-3631fafa-120b-4805-bc61-b9a3127285ad
SEQUENCE:0
LAST-MODIFIED:20140616T182441Z
SUMMARY:Summer Bird Hike with Aaron Steed
DESCRIPTION:"Summer is a wonderful time of the year with birds fledgin
 g through the warmer months. With an abundance of food and cover\, man
 y young birds are around. Tree Swallows and Eastern Bluebirds use the 
 bird houses and Carlina Wren chicks scurry around the FENCE buildings 
 looking for food. Our summer birdwalk will concentrate on those birds 
 that breed on or around the FENCE property\, listening to their songs 
 and learning a little about their breeding biology. Join us for our 2 
 hour walk\, but bring a hat and sunscreen."
LOCATION:Fence Center
PRIORITY:3
TRANSP:0
END:VEVENT
END:VCALENDAR
