BEGIN:VCALENDAR
PRODID:-//AT Content Types//AT Event//EN
VERSION:2.0
METHOD:PUBLISH
BEGIN:VEVENT
DTSTAMP:20260423T131411Z
CREATED:20170105T191514Z
UID:ATEvent-0b1a01cd1ef740829d5de50192546467
LAST-MODIFIED:20170828T200412Z
SUMMARY:Summer Bird Hike with Aaron Steed
DTSTART:20170810T120000Z
DTEND:20170810T140000Z
DESCRIPTION:Though August is a summer month\, it is the start of the f
 all migration for many of our local birds. Many of our summer bird res
 idents are still around at this time of year\, perhaps still singing\,
  while certain species such as Barn Swallow and Purple Martin have lar
 gely gone. The first of many southbound songbird migrants are just beg
 inning to trickle through. Join international bird guide\, Aaron Steed
 \, for a walk through the woodlands around FENCE and search for a vari
 ety of warblers\, tanagers\, sparrows and more.
LOCATION:FENCE Center
CATEGORIES:Nature Program
CONTACT:Tracie Hanson\, 8288599021\, info@fence.org
CLASS:PUBLIC
END:VEVENT
END:VCALENDAR
