BEGIN:VCALENDAR
PRODID:-//AT Content Types//AT Event//EN
VERSION:2.0
METHOD:PUBLISH
BEGIN:VEVENT
DTSTAMP:20260423T105028Z
CREATED:20151026T194916Z
UID:ATEvent-b1a91052-f4a6-48ba-b323-9af68fbad6f0
LAST-MODIFIED:20151026T194916Z
SUMMARY:Steeplechase
DTSTART:20160507T140000Z
DTEND:20160507T210000Z
LOCATION:FENCE Equestrian Side
CATEGORIES:Horse Show
CLASS:PUBLIC
END:VEVENT
END:VCALENDAR
