BEGIN:VCALENDAR
PRODID:-//AT Content Types//AT Event//EN
VERSION:1.0
BEGIN:VEVENT
DTSTART:20260328T140000Z
DTEND:20260328T160000Z
DCREATED:20260121T162520Z
UID:ATEvent-0ab1d6c2545c48509884884d656b3ab2
SEQUENCE:0
LAST-MODIFIED:20260323T132956Z
SUMMARY:Spring Wildflower Walk
DESCRIPTION:Join Jennie Burke of Carolina Nature Tours for an easy-mod
 erate hike in search of spring wildflowers.  We should see plenty of t
 rilliums\, violets and more!
LOCATION:FENCE Center
PRIORITY:3
TRANSP:0
END:VEVENT
END:VCALENDAR
