BEGIN:VCALENDAR
PRODID:-//AT Content Types//AT Event//EN
VERSION:2.0
METHOD:PUBLISH
BEGIN:VEVENT
DTSTAMP:20260423T130803Z
CREATED:20190325T000125Z
UID:ATEvent-750e3ec525ab49b3ba3b17fafb3859da
LAST-MODIFIED:20190325T000126Z
SUMMARY:Spring Tree ID hike
DTSTART:20190418T130000Z
DTEND:20190418T143000Z
DESCRIPTION:Join Naturalist\, Carlton Burke\, for a spring tree ID hik
 e around the FENCE property.
LOCATION:FENCE center
CATEGORIES:Nature Program
CONTACT:828-859-9021\, info@fence.org
CLASS:PUBLIC
END:VEVENT
END:VCALENDAR
