BEGIN:VCALENDAR
PRODID:-//AT Content Types//AT Event//EN
VERSION:2.0
METHOD:PUBLISH
BEGIN:VEVENT
DTSTAMP:20260423T130956Z
CREATED:20120416T200613Z
UID:ATEvent-b29d9165-14c9-440b-bf67-cd404e177718
LAST-MODIFIED:20120430T194752Z
SUMMARY:Spring Hike with Simon Thompson
DTSTART:20120516T120000Z
DTEND:20120516T140000Z
DESCRIPTION:Well-known ornithologist and birding expert\, Simon Thomps
 on\, will conduct a Spring birding hike at FENCE on May 16 at 8:00am. 
  This will be the second in the series.
LOCATION:FENCE
CATEGORIES:Nature Program
CONTACT:Tracie Hanson\, 828-859-9021\, natureeducation@fence.org
CLASS:PUBLIC
END:VEVENT
END:VCALENDAR
