BEGIN:VCALENDAR
PRODID:-//AT Content Types//AT Event//EN
VERSION:1.0
BEGIN:VEVENT
DTSTART:20190404T120000Z
DTEND:20190404T140000Z
DCREATED:20190103T212135Z
UID:ATEvent-46af5bc74fe440289faa08d7b3739ac9
SEQUENCE:0
LAST-MODIFIED:20190325T000548Z
SUMMARY:Spring Bird Walk
DESCRIPTION:Meet at the FENCE center for a guided spring bird walk aro
 und the FENCE property.
LOCATION:FENCE Center
PRIORITY:3
TRANSP:0
END:VEVENT
END:VCALENDAR
