BEGIN:VCALENDAR
PRODID:-//AT Content Types//AT Event//EN
VERSION:2.0
METHOD:PUBLISH
BEGIN:VEVENT
DTSTAMP:20260424T020939Z
CREATED:20260423T230915Z
UID:ATEvent-4a8f82af89514aba88402ea0556e92c6
LAST-MODIFIED:20260423T230955Z
SUMMARY:Spring Bird Walk
DTSTART:20260504T120000Z
DTEND:20260504T140000Z
DESCRIPTION:Join Kevin Burke of Carolina Nature Tours on Monday\, May 
 4th at 8am for a walk around FENCE to look for resident and migratory 
 birds.
LOCATION:FENCE Center
CATEGORIES:Nature Program
CONTACT:828-859-9021\, info@fence.org
URL:https://www.eventbrite.com/e/1988133790687?aff=oddtdtcreator
CLASS:PUBLIC
END:VEVENT
END:VCALENDAR
