BEGIN:VCALENDAR
PRODID:-//AT Content Types//AT Event//EN
VERSION:2.0
METHOD:PUBLISH
BEGIN:VEVENT
DTSTAMP:20260423T142016Z
CREATED:20260121T162730Z
UID:ATEvent-1d4f518c101b4973bc58689201505430
LAST-MODIFIED:20260406T124402Z
SUMMARY:Spring Bird Walk
DTSTART:20260417T120000Z
DTEND:20260417T140000Z
DESCRIPTION:Join Kevin Burke of Carolina Nature Tours for a Spring bir
 d walk at FENCE.  Spring is an exciting time to be birding in our area
 .
LOCATION:FENCE Center
CATEGORIES:Nature Program
CONTACT:828-859-9021\, info@fence.org
URL:https://www.eventbrite.com/e/1986278800361?aff=oddtdtcreator
CLASS:PUBLIC
END:VEVENT
END:VCALENDAR
