BEGIN:VCALENDAR
PRODID:-//AT Content Types//AT Event//EN
VERSION:2.0
METHOD:PUBLISH
BEGIN:VEVENT
DTSTAMP:20260423T105252Z
CREATED:20240105T141628Z
UID:ATEvent-68aeed66db054b1690ed090656edf576
LAST-MODIFIED:20240105T141628Z
SUMMARY:Spring Bird Walk
DTSTART:20240508T120000Z
DTEND:20240508T140000Z
DESCRIPTION:This event is free and open to the Public. Thank you to th
 e Kirby Endowment at the Polk County Community Foundation for making t
 his event possible.
LOCATION:FENCE Center
CATEGORIES:Nature Program
CLASS:PUBLIC
END:VEVENT
END:VCALENDAR
