BEGIN:VCALENDAR
PRODID:-//AT Content Types//AT Event//EN
VERSION:2.0
METHOD:PUBLISH
BEGIN:VEVENT
DTSTAMP:20260423T105227Z
CREATED:20230204T145710Z
UID:ATEvent-ad2ce7ad5ea141b9806386d2ae15efe5
LAST-MODIFIED:20230204T145710Z
SUMMARY:Spring Bird Walk
DTSTART:20230413T120000Z
DTEND:20230413T140000Z
DESCRIPTION:Join us for a Spring Bird walk with Vicky Burke\, Ventures
  Birding Guide.
LOCATION:FENCE Center
CATEGORIES:Nature Program
CONTACT:828-859-9021\, info@fence.org
CLASS:PUBLIC
END:VEVENT
END:VCALENDAR
