BEGIN:VCALENDAR
PRODID:-//AT Content Types//AT Event//EN
VERSION:2.0
METHOD:PUBLISH
BEGIN:VEVENT
DTSTAMP:20260423T142005Z
CREATED:20220316T152257Z
UID:ATEvent-80f3de0edfda42b2bed967d6b818bbdc
LAST-MODIFIED:20220316T152258Z
SUMMARY:Spring Bird Walk
DTSTART:20220407T120000Z
DTEND:20220407T140000Z
DESCRIPTION:Join us for a Spring bird walk around the FENCE property. 
 Register for this event by emailing info@fence.org or calling 828-859-
 9021.
LOCATION:FENCE Center
CATEGORIES:Nature Program
CONTACT:8288599021\, info@fence.org
CLASS:PUBLIC
END:VEVENT
END:VCALENDAR
