BEGIN:VCALENDAR
PRODID:-//AT Content Types//AT Event//EN
VERSION:1.0
BEGIN:VEVENT
DTSTART:20210527T120000Z
DTEND:20210527T140000Z
DCREATED:20210510T034355Z
UID:ATEvent-d1135dc24fd14145a3067a23f49ef550
SEQUENCE:0
LAST-MODIFIED:20210510T034356Z
SUMMARY:Spring Bird Walk
DESCRIPTION:Join us for a Spring bird walk around the FENCE property.
LOCATION:FENCE center
PRIORITY:3
TRANSP:0
END:VEVENT
END:VCALENDAR
