BEGIN:VCALENDAR
PRODID:-//AT Content Types//AT Event//EN
VERSION:1.0
BEGIN:VEVENT
DTSTART:20210412T120000Z
DTEND:20210412T140000Z
DCREATED:20210405T224303Z
UID:ATEvent-c25e1bab709049d88e90e9086f80adce
SEQUENCE:0
LAST-MODIFIED:20210405T224304Z
SUMMARY:Spring bird walk
DESCRIPTION:There's nothing that beats a walk in the woods in the spri
 ngtime! Registration is required for this event.
LOCATION:FENCE center
PRIORITY:3
TRANSP:0
END:VEVENT
END:VCALENDAR
