BEGIN:VCALENDAR
PRODID:-//AT Content Types//AT Event//EN
VERSION:2.0
METHOD:PUBLISH
BEGIN:VEVENT
DTSTAMP:20260423T114912Z
CREATED:20200114T015136Z
UID:ATEvent-cd1be1018fb04f75921d3d30add13ae7
LAST-MODIFIED:20200327T010104Z
SUMMARY:Cancelled- Spring bird walk
DTSTART:20200402T120000Z
DTEND:20200402T133000Z
LOCATION:FENCE center
CATEGORIES:Nature Program
CONTACT:828-859-9021\, info@fence.org
CLASS:PUBLIC
END:VEVENT
END:VCALENDAR
