BEGIN:VCALENDAR
PRODID:-//AT Content Types//AT Event//EN
VERSION:2.0
METHOD:PUBLISH
BEGIN:VEVENT
DTSTAMP:20260423T170940Z
CREATED:20170105T172731Z
UID:ATEvent-a52b6bf23c9e46699fd0f1c313daa7af
LAST-MODIFIED:20170411T201956Z
SUMMARY:Spring Bird Hike with Simon Thompson
DTSTART:20170420T120000Z
DTEND:20170420T140000Z
DESCRIPTION:FENCE welcomes everyone from first time birders to advance
 d birders to join Simon Thompson\, local ornithologist for his walk on
  the FENCE property! \nEveryone loves birding in the spring and there 
 are few places nicer than the Carolina Foothills in April. The flowers
  are opening and the birds are all singing. Brown Thrashers sing their
  rich songs from the treetops and Eastern Bluebirds are probably alrea
 dy on eggs\, and the first broods of Carolina Chickadees and Tufted Ti
 tmice may have already hatched. We should enjoy warm weather and birds
 ong on a fine spring day.\n\nThis event is made possible by the Kirby 
 Endowment at the Polk County Community Foundation.
LOCATION:FENCE Center
CATEGORIES:Nature Program
CONTACT:Tracie Hanson\, 8288599021\, info@fence.org
CLASS:PUBLIC
END:VEVENT
END:VCALENDAR
