BEGIN:VCALENDAR
PRODID:-//AT Content Types//AT Event//EN
VERSION:2.0
METHOD:PUBLISH
BEGIN:VEVENT
DTSTAMP:20260423T105314Z
CREATED:20220128T183031Z
UID:ATEvent-b161c510a0104049a165ee1fd450767a
LAST-MODIFIED:20220128T183130Z
SUMMARY:Sporting Horse Show
DTSTART:20220917T120000Z
DTEND:20220917T160000Z
LOCATION:FENCE Equestrian side
CATEGORIES:Horse Show
CLASS:PUBLIC
END:VEVENT
END:VCALENDAR
