BEGIN:VCALENDAR
PRODID:-//AT Content Types//AT Event//EN
VERSION:2.0
METHOD:PUBLISH
BEGIN:VEVENT
DTSTAMP:20260423T131145Z
CREATED:20220128T183211Z
UID:ATEvent-87b70269b93040c293d19831679c859f
LAST-MODIFIED:20220128T183211Z
SUMMARY:Sporting Horse Show
DTSTART:20220918T120000Z
DTEND:20220918T190000Z
LOCATION:FENCE Equestrian side
CATEGORIES:Horse Show
CLASS:PUBLIC
END:VEVENT
END:VCALENDAR
