BEGIN:VCALENDAR
PRODID:-//AT Content Types//AT Event//EN
VERSION:2.0
METHOD:PUBLISH
BEGIN:VEVENT
DTSTAMP:20260423T071552Z
CREATED:20211213T163620Z
UID:ATEvent-f0f4b10e575a45c7b13e45d3cc9dde3f
LAST-MODIFIED:20211213T163629Z
SUMMARY:Southern Series
DTSTART:20220305T120000Z
DTEND:20220305T230000Z
LOCATION:Equestrian side
CATEGORIES:Horse Show
CLASS:PUBLIC
END:VEVENT
END:VCALENDAR
