BEGIN:VCALENDAR
PRODID:-//AT Content Types//AT Event//EN
VERSION:1.0
BEGIN:VEVENT
DTSTART:20200808T130000Z
DTEND:20200809T210000Z
DCREATED:20200622T160824Z
UID:ATEvent-59a4933147f249fba5cf4ab26457f6a5
SEQUENCE:0
LAST-MODIFIED:20200622T160824Z
SUMMARY:Southern Series Barrel Racing
LOCATION:FENCE Equestrian Side
PRIORITY:3
TRANSP:0
END:VEVENT
END:VCALENDAR
