BEGIN:VCALENDAR
PRODID:-//AT Content Types//AT Event//EN
VERSION:2.0
METHOD:PUBLISH
BEGIN:VEVENT
DTSTAMP:20260423T131416Z
CREATED:20210629T161148Z
UID:ATEvent-aed5408c06f24808917a071dfe27519b
LAST-MODIFIED:20210629T161148Z
SUMMARY:Southern Series Barrel Racing
DTSTART:20210703T160000Z
DTEND:20210704T190000Z
LOCATION:FENCE Equestrian Side
CATEGORIES:Horse Show
CLASS:PUBLIC
END:VEVENT
END:VCALENDAR
