BEGIN:VCALENDAR
PRODID:-//AT Content Types//AT Event//EN
VERSION:1.0
BEGIN:VEVENT
DTSTART:20211001T160000Z
DTEND:20211002T220000Z
DCREATED:20210629T155947Z
UID:ATEvent-63da62e148d24d59af0edad5ed584655
SEQUENCE:0
LAST-MODIFIED:20210629T155947Z
SUMMARY:Southern Series Barrel Racing
LOCATION:FENCE Equestrian Side
PRIORITY:3
TRANSP:0
END:VEVENT
END:VCALENDAR
