BEGIN:VCALENDAR
PRODID:-//AT Content Types//AT Event//EN
VERSION:2.0
METHOD:PUBLISH
BEGIN:VEVENT
DTSTAMP:20260423T105606Z
CREATED:20210629T155137Z
UID:ATEvent-06be7cab337b43a989087aa07f958b80
LAST-MODIFIED:20210629T155137Z
SUMMARY:Southern Series Barrel Racing
DTSTART:20210820T160000Z
DTEND:20210821T220000Z
LOCATION:FENCE Equestrian Side
CATEGORIES:Horse Show
CLASS:PUBLIC
END:VEVENT
END:VCALENDAR
