BEGIN:VCALENDAR
PRODID:-//AT Content Types//AT Event//EN
VERSION:2.0
METHOD:PUBLISH
BEGIN:VEVENT
DTSTAMP:20260423T105606Z
CREATED:20210402T193009Z
UID:ATEvent-999e8f1e8d434d359e30707e5bbdfd1a
LAST-MODIFIED:20210402T193010Z
SUMMARY:Southern Series Barrel Racing
DTSTART:20210402T160000Z
DTEND:20210404T000000Z
LOCATION:FENCE Equestrian Side
CATEGORIES:Horse Show
CLASS:PUBLIC
END:VEVENT
END:VCALENDAR
