BEGIN:VCALENDAR
PRODID:-//AT Content Types//AT Event//EN
VERSION:2.0
METHOD:PUBLISH
BEGIN:VEVENT
DTSTAMP:20260423T154808Z
CREATED:20200814T195837Z
UID:ATEvent-78b8945893bb4f87a7e553d92426a1ed
LAST-MODIFIED:20200814T195837Z
SUMMARY:Southern Series Barrel Racing
DTSTART:20200912T040000Z
DTEND:20200914T035500Z
LOCATION:FENCE Equestrian Side
CATEGORIES:Horse Show
CLASS:PUBLIC
END:VEVENT
END:VCALENDAR
