BEGIN:VCALENDAR
PRODID:-//AT Content Types//AT Event//EN
VERSION:2.0
METHOD:PUBLISH
BEGIN:VEVENT
DTSTAMP:20260423T115158Z
CREATED:20211213T172002Z
UID:ATEvent-88ff8d33cb77461984efe065c04c90a4
LAST-MODIFIED:20211213T172002Z
SUMMARY:Southern Series
DTSTART:20220723T110000Z
DTEND:20220723T220000Z
LOCATION:Equestrian side
CATEGORIES:Horse Show
CLASS:PUBLIC
END:VEVENT
END:VCALENDAR
