BEGIN:VCALENDAR
PRODID:-//AT Content Types//AT Event//EN
VERSION:2.0
METHOD:PUBLISH
BEGIN:VEVENT
DTSTAMP:20260423T154602Z
CREATED:20211213T171510Z
UID:ATEvent-eb4b6b2c68024786b16bdd3cba9ed4f8
LAST-MODIFIED:20211213T171510Z
SUMMARY:Southern Series
DTSTART:20220702T110000Z
DTEND:20220702T220000Z
LOCATION:Equestrian side
CATEGORIES:Horse Show
CLASS:PUBLIC
END:VEVENT
END:VCALENDAR
