BEGIN:VCALENDAR
PRODID:-//AT Content Types//AT Event//EN
VERSION:1.0
BEGIN:VEVENT
DTSTART:20220611T110000Z
DTEND:20220611T220000Z
DCREATED:20211213T170101Z
UID:ATEvent-fb1d9eccec6e41d4894822edf25b4431
SEQUENCE:0
LAST-MODIFIED:20211213T170101Z
SUMMARY:Southern Series
LOCATION:FENCE Center
PRIORITY:3
TRANSP:0
END:VEVENT
END:VCALENDAR
