BEGIN:VCALENDAR
PRODID:-//AT Content Types//AT Event//EN
VERSION:1.0
BEGIN:VEVENT
DTSTART:20220507T110000Z
DTEND:20220507T220000Z
DCREATED:20211213T165412Z
UID:ATEvent-ce2a28d74b55462f9afc260fadc6d3b6
SEQUENCE:0
LAST-MODIFIED:20211213T165412Z
SUMMARY:Southern Series
LOCATION:Equestrian side
PRIORITY:3
TRANSP:0
END:VEVENT
END:VCALENDAR
