BEGIN:VCALENDAR
PRODID:-//AT Content Types//AT Event//EN
VERSION:1.0
BEGIN:VEVENT
DTSTART:20220402T110000Z
DTEND:20220402T220000Z
DCREATED:20211213T163958Z
UID:ATEvent-ceaa03af6e794a538ac6ff79202662ee
SEQUENCE:0
LAST-MODIFIED:20211213T163958Z
SUMMARY:Southern Series
LOCATION:Equestrian side
PRIORITY:3
TRANSP:0
END:VEVENT
END:VCALENDAR
