BEGIN:VCALENDAR
PRODID:-//AT Content Types//AT Event//EN
VERSION:2.0
METHOD:PUBLISH
BEGIN:VEVENT
DTSTAMP:20260423T154639Z
CREATED:20150305T191113Z
UID:ATEvent-3bbbd762-112c-4c0c-a2d1-45516b3170da
LAST-MODIFIED:20150902T195323Z
SUMMARY:Snakes Alive with Steve O"Neil
DTSTART:20150321T180000Z
DTEND:20150321T190000Z
DESCRIPTION:Snakes are so misunderstood so please join local naturalis
 t and snake expert\, Steve O'Neil\, for an entertaining afternoon show
 casing many of our local WNC snakes. Steve will allay many of the myth
 s and legends surrounding these very important reptiles.
LOCATION:Fence Center
CATEGORIES:Family
CONTACT:Simon Thompson\, 828-859-9021\, simon@fence.org
CLASS:PUBLIC
END:VEVENT
END:VCALENDAR
