BEGIN:VCALENDAR
PRODID:-//AT Content Types//AT Event//EN
VERSION:1.0
BEGIN:VEVENT
DTSTART:20090919T233000Z
DTEND:20090920T033000Z
DCREATED:20090826T180312Z
UID:ATEvent-3d1ad2ac-93e2-4a82-a219-3914e29c177b
SEQUENCE:0
LAST-MODIFIED:20090826T180312Z
SUMMARY:Sept.19: Astronomy Program at sunset
DESCRIPTION:"The Last Stars of Summer". Offered by the Foothills Astro
 nomical Society.
LOCATION:FENCE Grounds
PRIORITY:3
TRANSP:0
END:VEVENT
END:VCALENDAR
