BEGIN:VCALENDAR
PRODID:-//AT Content Types//AT Event//EN
VERSION:2.0
METHOD:PUBLISH
BEGIN:VEVENT
DTSTAMP:20260423T120438Z
CREATED:20080623T175830Z
UID:ATEvent-0feec969-7a6b-4d83-8ea9-c50e7b09b287
LAST-MODIFIED:20080623T175830Z
SUMMARY:Sept. 28 - The Armchair Traveler
DTSTART:20080928T200000Z
DTEND:20080928T213000Z
DESCRIPTION:Program to be announced.
CATEGORIES:Family
CONTACT:FENCE\, 828-859-9021\, info@fence.org
CLASS:PUBLIC
END:VEVENT
END:VCALENDAR
