BEGIN:VCALENDAR
PRODID:-//AT Content Types//AT Event//EN
VERSION:1.0
BEGIN:VEVENT
DTSTART:20090927T200000Z
DTEND:20090927T213000Z
DCREATED:20090828T154309Z
UID:ATEvent-59ce5d73-a368-4bf2-8476-42e14a194d95
SEQUENCE:0
LAST-MODIFIED:20090828T154436Z
SUMMARY:Sept. 27th: The Armchair Traveler\, 4pm
DESCRIPTION:Simon Thompson explores Kazakhstan
PRIORITY:3
TRANSP:0
END:VEVENT
END:VCALENDAR
