BEGIN:VCALENDAR
PRODID:-//AT Content Types//AT Event//EN
VERSION:2.0
METHOD:PUBLISH
BEGIN:VEVENT
DTSTAMP:20260423T154839Z
CREATED:20100504T155557Z
UID:ATEvent-3dd2e8c4-a94e-4592-bd5b-14ac7a397b44
LAST-MODIFIED:20100504T155557Z
SUMMARY:Sept. 25-26: Tryon Fall Classic Horse Show
DTSTART:20100925T120000Z
DTEND:20100926T210000Z
LOCATION:Equestrian Center
CONTACT:843-768-5503\, info@classiccompany.com
URL:http://www.classiccompany.com
CLASS:PUBLIC
END:VEVENT
END:VCALENDAR
