BEGIN:VCALENDAR
PRODID:-//AT Content Types//AT Event//EN
VERSION:1.0
BEGIN:VEVENT
DTSTART:20090920T200000Z
DTEND:20090920T213000Z
DCREATED:20090817T152556Z
UID:ATEvent-45ea5239-0c06-4afd-bb78-8bce4e012759
SEQUENCE:0
LAST-MODIFIED:20090817T152727Z
SUMMARY:Sept. 20: Family Concert
DESCRIPTION:Join award-winning pianist Kevin Ayesh for a program of ly
 ric pieces from the Romantic era. Free event.
PRIORITY:3
TRANSP:0
END:VEVENT
END:VCALENDAR
