BEGIN:VCALENDAR
PRODID:-//AT Content Types//AT Event//EN
VERSION:1.0
BEGIN:VEVENT
DTSTART:20100919T200000Z
DTEND:20100919T213000Z
DCREATED:20100901T133531Z
UID:ATEvent-31b875d4-2c46-49ea-be38-89338dc3171d
SEQUENCE:0
LAST-MODIFIED:20100901T133531Z
SUMMARY:Sept. 19: Family Concert\, 4pm
DESCRIPTION:Singer/songwriter Tom Fisch entertains. Free program.
LOCATION:Great Room
PRIORITY:3
TRANSP:0
END:VEVENT
END:VCALENDAR
