BEGIN:VCALENDAR
PRODID:-//AT Content Types//AT Event//EN
VERSION:1.0
BEGIN:VEVENT
DTSTART:20100918T120000Z
DTEND:20100918T200000Z
DCREATED:20100504T155324Z
UID:ATEvent-abbc74cd-d93a-44ea-9e45-c7f826c30cdb
SEQUENCE:0
LAST-MODIFIED:20100504T155324Z
SUMMARY:Sept. 18: FRC Cross-Country Schooling
LOCATION:Cross-Country Course
PRIORITY:3
TRANSP:0
END:VEVENT
END:VCALENDAR
