BEGIN:VCALENDAR
PRODID:-//AT Content Types//AT Event//EN
VERSION:2.0
METHOD:PUBLISH
BEGIN:VEVENT
DTSTAMP:20260423T105648Z
CREATED:20100516T014905Z
UID:ATEvent-233fd52c-a5c6-4c6a-a82e-9363b88d569e
LAST-MODIFIED:20100721T153022Z
SUMMARY:Sept. 17: Foothills Astronomical Society
DTSTART:20100917T233000Z
DTEND:20100918T010000Z
DESCRIPTION:Regular monthly club meeting. All invited. Enter through r
 ear of FENCE Center.
CATEGORIES:Nature/Astronomy
CONTACT:Jim Cooper\, 828-859-8342
CLASS:PUBLIC
END:VEVENT
END:VCALENDAR
