BEGIN:VCALENDAR
PRODID:-//AT Content Types//AT Event//EN
VERSION:1.0
BEGIN:VEVENT
DTSTART:20080913T230000Z
DTEND:20080914T020000Z
DCREATED:20080728T190546Z
UID:ATEvent-bf4a5776-2424-470d-b362-d23fb4a96a4f
SEQUENCE:0
LAST-MODIFIED:20080728T190546Z
SUMMARY:Sept. 13: Moon Howl!
DESCRIPTION:An outdoor concert to benefit our nature education and out
 door recreation programs.
LOCATION:FENCE Center Grounds
PRIORITY:3
TRANSP:0
END:VEVENT
END:VCALENDAR
