BEGIN:VCALENDAR
PRODID:-//AT Content Types//AT Event//EN
VERSION:1.0
BEGIN:VEVENT
DTSTART:20100913T140000Z
DTEND:20100913T153000Z
DCREATED:20091117T172957Z
UID:ATEvent-fd3f3e55-cd1f-4d35-b4a2-8c95e555ed23
SEQUENCE:0
LAST-MODIFIED:20091219T180756Z
SUMMARY:Sept. 13 - Gardening Seminar
DESCRIPTION:"Repeating Daylilies and Irises"\, with John Owenby of Fie
 lding Cantrell Gardens. Free program.
LOCATION:Great Room
PRIORITY:3
TRANSP:0
END:VEVENT
END:VCALENDAR
