BEGIN:VCALENDAR
PRODID:-//AT Content Types//AT Event//EN
VERSION:1.0
BEGIN:VEVENT
DTSTART:20110912T140000Z
DTEND:20110912T153000Z
DCREATED:20101120T220046Z
UID:ATEvent-d6ac57eb-4f27-477e-8837-95d3717bafab
SEQUENCE:0
LAST-MODIFIED:20101120T220046Z
SUMMARY:Sept. 12: Gardening Seminar\, 10am
DESCRIPTION:"Summer Succulents"\, with Master Gardener Gretchen Verbon
 ic. Free program.
LOCATION:Great Room
PRIORITY:3
TRANSP:0
END:VEVENT
END:VCALENDAR
