BEGIN:VCALENDAR
PRODID:-//AT Content Types//AT Event//EN
VERSION:2.0
METHOD:PUBLISH
BEGIN:VEVENT
DTSTAMP:20260423T130808Z
CREATED:20100515T220609Z
UID:ATEvent-2eb8c590-6d2e-4ff0-b748-2551155b873a
LAST-MODIFIED:20100515T220609Z
SUMMARY:Sept. 11: Astronomy Program at Sunset
DTSTART:20100912T000000Z
DTEND:20100912T030000Z
DESCRIPTION:"Earthshine" lights the crescent moon tonight. Walk to top
  of Hawk Ridge\, behind the FENCE Center. Free program\, and telescope
 s provided.
LOCATION:FENCE Center Area/Hawk Ridge
CATEGORIES:Nature/Astronomy
CONTACT:Jim Cooper\, 828-859-8342
CLASS:PUBLIC
END:VEVENT
END:VCALENDAR
