BEGIN:VCALENDAR
PRODID:-//AT Content Types//AT Event//EN
VERSION:2.0
METHOD:PUBLISH
BEGIN:VEVENT
DTSTAMP:20260423T105034Z
CREATED:20211213T171840Z
UID:ATEvent-4b879101663d414ca5d18a3637a1fd18
LAST-MODIFIED:20211213T171840Z
SUMMARY:Schooling Show
DTSTART:20220712T200000Z
DTEND:20220713T000000Z
LOCATION:Equestrian side
CATEGORIES:Horse Show
CLASS:PUBLIC
END:VEVENT
END:VCALENDAR
