BEGIN:VCALENDAR
PRODID:-//AT Content Types//AT Event//EN
VERSION:2.0
METHOD:PUBLISH
BEGIN:VEVENT
DTSTAMP:20260423T154352Z
CREATED:20211213T172341Z
UID:ATEvent-688e58f8c7684aca8cc0a9e4736237cd
LAST-MODIFIED:20211213T172341Z
SUMMARY:Schooling Show
DTSTART:20220823T200000Z
DTEND:20220824T000000Z
LOCATION:Equestrian side
CATEGORIES:Horse Show
CONTACT:8288599021\, info@fence.org
CLASS:PUBLIC
END:VEVENT
END:VCALENDAR
