BEGIN:VCALENDAR
PRODID:-//AT Content Types//AT Event//EN
VERSION:2.0
METHOD:PUBLISH
BEGIN:VEVENT
DTSTAMP:20260423T190940Z
CREATED:20211213T172220Z
UID:ATEvent-169f42d618d54e9a8003a09621453f22
LAST-MODIFIED:20211213T172220Z
SUMMARY:Schooling Show
DTSTART:20220809T200000Z
DTEND:20220810T000000Z
LOCATION:FENCE Center
CATEGORIES:Horse Show
CONTACT:8288599021\, info@fence.org
CLASS:PUBLIC
END:VEVENT
END:VCALENDAR
