BEGIN:VCALENDAR
PRODID:-//AT Content Types//AT Event//EN
VERSION:1.0
BEGIN:VEVENT
DTSTART:20220726T200000Z
DTEND:20220727T000000Z
DCREATED:20211213T172036Z
UID:ATEvent-95b7502b79784537b2cdc42f32f1cc98
SEQUENCE:0
LAST-MODIFIED:20211213T172036Z
SUMMARY:Schooling Show
LOCATION:Equestrian side
PRIORITY:3
TRANSP:0
END:VEVENT
END:VCALENDAR
