BEGIN:VCALENDAR
PRODID:-//AT Content Types//AT Event//EN
VERSION:2.0
METHOD:PUBLISH
BEGIN:VEVENT
DTSTAMP:20260423T114851Z
CREATED:20151026T193415Z
UID:ATEvent-2be98b43-67c4-45d6-b7c1-0eca668e6cc3
LAST-MODIFIED:20151026T193415Z
SUMMARY:SC Mounted Shooters
DTSTART:20160319T130000Z
DTEND:20160320T220000Z
LOCATION:FENCE Equestrian Side
CATEGORIES:Horse Show
CLASS:PUBLIC
END:VEVENT
END:VCALENDAR
